View In:
ArcGIS JavaScript
ArcGIS Online Map Viewer
ArcGIS Earth
ArcGIS Pro
Service Description:
Map Name: Map2
Legend
All Layers and Tables
Layers:
Description:
Service Item Id: 56ad90276da84b9bbe765a0308e897fe
Copyright Text:
Spatial Reference:
3753
(3753)
LatestVCSWkid(0)
Single Fused Map Cache: true
Tile Info:
- Height: 256.0
- Width: 256.0
- DPI: 96.0
-
Levels of Detail: 24
-
Level ID: 0
[ Start Tile, End Tile ]
- Resolution: 944781.0315070761
- Scale: 1.088389925076002E9
-
Level ID: 1
[ Start Tile, End Tile ]
- Resolution: 472390.51575353806
- Scale: 5.44194962538001E8
-
Level ID: 2
[ Start Tile, End Tile ]
- Resolution: 236195.25787676903
- Scale: 2.720974812690005E8
-
Level ID: 3
[ Start Tile, End Tile ]
- Resolution: 118097.62893838451
- Scale: 1.3604874063450024E8
-
Level ID: 4
[ Start Tile, End Tile ]
- Resolution: 59048.81446919226
- Scale: 6.802437031725012E7
-
Level ID: 5
[ Start Tile, End Tile ]
- Resolution: 29524.40723459613
- Scale: 3.401218515862506E7
-
Level ID: 6
[ Start Tile, End Tile ]
- Resolution: 14762.203617298064
- Scale: 1.700609257931253E7
-
Level ID: 7
[ Start Tile, End Tile ]
- Resolution: 7381.101808649032
- Scale: 8503046.289656265
-
Level ID: 8
[ Start Tile, End Tile ]
- Resolution: 3690.550904324516
- Scale: 4251523.144828132
-
Level ID: 9
[ Start Tile, End Tile ]
- Resolution: 1845.275452162258
- Scale: 2125761.572414066
-
Level ID: 10
[ Start Tile, End Tile ]
- Resolution: 922.637726081129
- Scale: 1062880.786207033
-
Level ID: 11
[ Start Tile, End Tile ]
- Resolution: 461.3188630405645
- Scale: 531440.3931035165
-
Level ID: 12
[ Start Tile, End Tile ]
- Resolution: 230.65943152028225
- Scale: 265720.1965517583
-
Level ID: 13
[ Start Tile, End Tile ]
- Resolution: 115.32971576014113
- Scale: 132860.09827587914
-
Level ID: 14
[ Start Tile, End Tile ]
- Resolution: 57.664857880070564
- Scale: 66430.04913793957
-
Level ID: 15
[ Start Tile, End Tile ]
- Resolution: 28.832428940035282
- Scale: 33215.024568969784
-
Level ID: 16
[ Start Tile, End Tile ]
- Resolution: 14.416214470017641
- Scale: 16607.512284484892
-
Level ID: 17
[ Start Tile, End Tile ]
- Resolution: 7.2081072350088204
- Scale: 8303.756142242446
-
Level ID: 18
[ Start Tile, End Tile ]
- Resolution: 3.6040536175044102
- Scale: 4151.878071121223
-
Level ID: 19
[ Start Tile, End Tile ]
- Resolution: 1.8020268087522051
- Scale: 2075.9390355606115
-
Level ID: 20
[ Start Tile, End Tile ]
- Resolution: 0.9010134043761026
- Scale: 1037.9695177803058
-
Level ID: 21
[ Start Tile, End Tile ]
- Resolution: 0.4505067021880513
- Scale: 518.9847588901529
-
Level ID: 22
[ Start Tile, End Tile ]
- Resolution: 0.22525335109402564
- Scale: 259.49237944507644
-
Level ID: 23
[ Start Tile, End Tile ]
- Resolution: 0.11262667554701282
- Scale: 129.74618972253822
- Format: MIXED
- Compression Quality: 75.0
- Origin: X: -1.1896347203290574E8
Y: 1.1364522665738976E8
- Spatial Reference: 3753
(3753)
LatestVCSWkid(0)
Storage Info:
- Storage Format: esriMapCacheStorageModeCompactV2
- Packet Size: 128
Initial Extent:
XMin: 1636643.310394655
YMin: 666947.2891414717
XMax: 1681336.8880204938
YMax: 703755.9914678443
Spatial Reference: 3753
(3753)
LatestVCSWkid(0)
Full Extent:
XMin: 1636643.310394655
YMin: 666947.2891414717
XMax: 1681336.8880204938
YMax: 703755.9914678443
Spatial Reference: 3753
(3753)
LatestVCSWkid(0)
Units: esriFeet
Supported Image Format Types:
Document Info:
Supports Dynamic Layers: false
Resampling: true
MaxRecordCount: 0
MaxSelectionCount: 0
MaxImageHeight: 0
MaxImageWidth: 0
Supported Query Formats:
Supports Query Data Elements:
Min Scale: 0
Max Scale: 0
Min LOD: 13
Max LOD: 23
Child Resources:
Info
Supported Operations:
QueryLegends
Return Updates