<?xml version="1.0" encoding="UTF-8"?>
<Capabilities xmlns="http://www.opengis.net/wmts/1.0"
xmlns:ows="http://www.opengis.net/ows/1.1"
xmlns:xlink="http://www.w3.org/1999/xlink"
xmlns:xsi="http://www.w3.org/2001/XMLSchema-instance"
xmlns:gml="http://www.opengis.net/gml"
xsi:schemaLocation="http://www.opengis.net/wmts/1.0 http://schemas.opengis.net/wmts/1.0/wmtsGetCapabilities_response.xsd"
version="1.0.0">
<!-- Service Identification --> <ows:ServiceIdentification>
<ows:Title>Hosted_Perrysburg_Image_9_10_25_tif</ows:Title>
<ows:ServiceType>OGC WMTS</ows:ServiceType>
<ows:ServiceTypeVersion>1.0.0</ows:ServiceTypeVersion>
</ows:ServiceIdentification> <!-- Operations Metadata --> <ows:OperationsMetadata>
<ows:Operation name="GetCapabilities">
<ows:DCP>
<ows:HTTP>
<ows:Get xlink:href="https://maps.ci.perrysburg.oh.us/arcgis/rest/services/Hosted/Perrysburg_Image_9_10_25_tif/MapServer/WMTS/1.0.0/WMTSCapabilities.xml">
<ows:Constraint name="GetEncoding">
<ows:AllowedValues>
<ows:Value>RESTful</ows:Value>
</ows:AllowedValues>
</ows:Constraint>
</ows:Get>
<!-- add KVP binding in 10.1 -->
<ows:Get xlink:href="https://maps.ci.perrysburg.oh.us/arcgis/rest/services/Hosted/Perrysburg_Image_9_10_25_tif/MapServer/WMTS?">
<ows:Constraint name="GetEncoding">
<ows:AllowedValues>
<ows:Value>KVP</ows:Value>
</ows:AllowedValues>
</ows:Constraint>
</ows:Get>
</ows:HTTP>
</ows:DCP>
</ows:Operation>
<ows:Operation name="GetTile">
<ows:DCP>
<ows:HTTP>
<ows:Get xlink:href="https://maps.ci.perrysburg.oh.us/arcgis/rest/services/Hosted/Perrysburg_Image_9_10_25_tif/MapServer/WMTS/tile/1.0.0/">
<ows:Constraint name="GetEncoding">
<ows:AllowedValues>
<ows:Value>RESTful</ows:Value>
</ows:AllowedValues>
</ows:Constraint>
</ows:Get>
<ows:Get xlink:href="https://maps.ci.perrysburg.oh.us/arcgis/rest/services/Hosted/Perrysburg_Image_9_10_25_tif/MapServer/WMTS?">
<ows:Constraint name="GetEncoding">
<ows:AllowedValues>
<ows:Value>KVP</ows:Value>
</ows:AllowedValues>
</ows:Constraint>
</ows:Get>
</ows:HTTP>
</ows:DCP>
</ows:Operation>
</ows:OperationsMetadata> <Contents>
<!--Layer--> <Layer>
<ows:Title>Hosted_Perrysburg_Image_9_10_25_tif</ows:Title> <ows:Identifier>Hosted_Perrysburg_Image_9_10_25_tif</ows:Identifier>
<ows:BoundingBox crs="urn:ogc:def:crs:EPSG::3753">
<ows:LowerCorner>1636643.310394655 666947.2891414717</ows:LowerCorner>
<ows:UpperCorner>1681336.8880204938 703755.9914678443</ows:UpperCorner>
</ows:BoundingBox> <ows:WGS84BoundingBox crs="urn:ogc:def:crs:OGC:2:84">
<ows:LowerCorner>-180.0 -90.0</ows:LowerCorner>
<ows:UpperCorner>180.0 90.0</ows:UpperCorner>
</ows:WGS84BoundingBox>
<Style isDefault="true">
<ows:Title>Default Style</ows:Title>
<ows:Identifier>default</ows:Identifier>
</Style>
<Format>image/jpgpng</Format>
<TileMatrixSetLink>
<TileMatrixSet>default028mm</TileMatrixSet>
</TileMatrixSetLink>
<ResourceURL format="image/jpgpng" resourceType="tile" template="https://maps.ci.perrysburg.oh.us/arcgis/rest/services/Hosted/Perrysburg_Image_9_10_25_tif/MapServer/WMTS/tile/1.0.0/Hosted_Perrysburg_Image_9_10_25_tif/{Style}/{TileMatrixSet}/{TileMatrix}/{TileRow}/{TileCol}" />
</Layer> <!--TileMatrixSet-->
<TileMatrixSet>
<ows:Title>TileMatrix using 0.28mm</ows:Title>
<ows:Abstract>The tile matrix set that has scale values calculated based on the dpi defined by OGC specification (dpi assumes 0.28mm as the physical distance of a pixel).</ows:Abstract> <ows:Identifier>default028mm</ows:Identifier>
<ows:SupportedCRS>urn:ogc:def:crs:EPSG::3753</ows:SupportedCRS>
<TileMatrix>
<ows:Identifier>0</ows:Identifier>
<ScaleDenominator>1.0284636940822338E9</ScaleDenominator>
<TopLeftCorner>-1.1896347203290574E8 1.1364522665738976E8</TopLeftCorner> <TileWidth>256</TileWidth> <TileHeight>256</TileHeight>
<MatrixWidth>1</MatrixWidth> <MatrixHeight>1</MatrixHeight>
</TileMatrix>
<TileMatrix>
<ows:Identifier>1</ows:Identifier>
<ScaleDenominator>5.142318470411169E8</ScaleDenominator>
<TopLeftCorner>-1.1896347203290574E8 1.1364522665738976E8</TopLeftCorner> <TileWidth>256</TileWidth> <TileHeight>256</TileHeight>
<MatrixWidth>1</MatrixWidth> <MatrixHeight>1</MatrixHeight>
</TileMatrix>
<TileMatrix>
<ows:Identifier>2</ows:Identifier>
<ScaleDenominator>2.5711592352055845E8</ScaleDenominator>
<TopLeftCorner>-1.1896347203290574E8 1.1364522665738976E8</TopLeftCorner> <TileWidth>256</TileWidth> <TileHeight>256</TileHeight>
<MatrixWidth>2</MatrixWidth> <MatrixHeight>2</MatrixHeight>
</TileMatrix>
<TileMatrix>
<ows:Identifier>3</ows:Identifier>
<ScaleDenominator>1.2855796176027922E8</ScaleDenominator>
<TopLeftCorner>-1.1896347203290574E8 1.1364522665738976E8</TopLeftCorner> <TileWidth>256</TileWidth> <TileHeight>256</TileHeight>
<MatrixWidth>4</MatrixWidth> <MatrixHeight>4</MatrixHeight>
</TileMatrix>
<TileMatrix>
<ows:Identifier>4</ows:Identifier>
<ScaleDenominator>6.427898088013961E7</ScaleDenominator>
<TopLeftCorner>-1.1896347203290574E8 1.1364522665738976E8</TopLeftCorner> <TileWidth>256</TileWidth> <TileHeight>256</TileHeight>
<MatrixWidth>8</MatrixWidth> <MatrixHeight>8</MatrixHeight>
</TileMatrix>
<TileMatrix>
<ows:Identifier>5</ows:Identifier>
<ScaleDenominator>3.2139490440069806E7</ScaleDenominator>
<TopLeftCorner>-1.1896347203290574E8 1.1364522665738976E8</TopLeftCorner> <TileWidth>256</TileWidth> <TileHeight>256</TileHeight>
<MatrixWidth>16</MatrixWidth> <MatrixHeight>15</MatrixHeight>
</TileMatrix>
<TileMatrix>
<ows:Identifier>6</ows:Identifier>
<ScaleDenominator>1.6069745220034903E7</ScaleDenominator>
<TopLeftCorner>-1.1896347203290574E8 1.1364522665738976E8</TopLeftCorner> <TileWidth>256</TileWidth> <TileHeight>256</TileHeight>
<MatrixWidth>32</MatrixWidth> <MatrixHeight>30</MatrixHeight>
</TileMatrix>
<TileMatrix>
<ows:Identifier>7</ows:Identifier>
<ScaleDenominator>8034872.610017451</ScaleDenominator>
<TopLeftCorner>-1.1896347203290574E8 1.1364522665738976E8</TopLeftCorner> <TileWidth>256</TileWidth> <TileHeight>256</TileHeight>
<MatrixWidth>64</MatrixWidth> <MatrixHeight>60</MatrixHeight>
</TileMatrix>
<TileMatrix>
<ows:Identifier>8</ows:Identifier>
<ScaleDenominator>4017436.3050087257</ScaleDenominator>
<TopLeftCorner>-1.1896347203290574E8 1.1364522665738976E8</TopLeftCorner> <TileWidth>256</TileWidth> <TileHeight>256</TileHeight>
<MatrixWidth>128</MatrixWidth> <MatrixHeight>120</MatrixHeight>
</TileMatrix>
<TileMatrix>
<ows:Identifier>9</ows:Identifier>
<ScaleDenominator>2008718.1525043629</ScaleDenominator>
<TopLeftCorner>-1.1896347203290574E8 1.1364522665738976E8</TopLeftCorner> <TileWidth>256</TileWidth> <TileHeight>256</TileHeight>
<MatrixWidth>256</MatrixWidth> <MatrixHeight>240</MatrixHeight>
</TileMatrix>
<TileMatrix>
<ows:Identifier>10</ows:Identifier>
<ScaleDenominator>1004359.0762521814</ScaleDenominator>
<TopLeftCorner>-1.1896347203290574E8 1.1364522665738976E8</TopLeftCorner> <TileWidth>256</TileWidth> <TileHeight>256</TileHeight>
<MatrixWidth>511</MatrixWidth> <MatrixHeight>479</MatrixHeight>
</TileMatrix>
<TileMatrix>
<ows:Identifier>11</ows:Identifier>
<ScaleDenominator>502179.5381260907</ScaleDenominator>
<TopLeftCorner>-1.1896347203290574E8 1.1364522665738976E8</TopLeftCorner> <TileWidth>256</TileWidth> <TileHeight>256</TileHeight>
<MatrixWidth>1022</MatrixWidth> <MatrixHeight>957</MatrixHeight>
</TileMatrix>
<TileMatrix>
<ows:Identifier>12</ows:Identifier>
<ScaleDenominator>251089.76906304536</ScaleDenominator>
<TopLeftCorner>-1.1896347203290574E8 1.1364522665738976E8</TopLeftCorner> <TileWidth>256</TileWidth> <TileHeight>256</TileHeight>
<MatrixWidth>2044</MatrixWidth> <MatrixHeight>1914</MatrixHeight>
</TileMatrix>
<TileMatrix>
<ows:Identifier>13</ows:Identifier>
<ScaleDenominator>125544.88453152268</ScaleDenominator>
<TopLeftCorner>-1.1896347203290574E8 1.1364522665738976E8</TopLeftCorner> <TileWidth>256</TileWidth> <TileHeight>256</TileHeight>
<MatrixWidth>4087</MatrixWidth> <MatrixHeight>3827</MatrixHeight>
</TileMatrix>
<TileMatrix>
<ows:Identifier>14</ows:Identifier>
<ScaleDenominator>62772.44226576134</ScaleDenominator>
<TopLeftCorner>-1.1896347203290574E8 1.1364522665738976E8</TopLeftCorner> <TileWidth>256</TileWidth> <TileHeight>256</TileHeight>
<MatrixWidth>8173</MatrixWidth> <MatrixHeight>7654</MatrixHeight>
</TileMatrix>
<TileMatrix>
<ows:Identifier>15</ows:Identifier>
<ScaleDenominator>31386.22113288067</ScaleDenominator>
<TopLeftCorner>-1.1896347203290574E8 1.1364522665738976E8</TopLeftCorner> <TileWidth>256</TileWidth> <TileHeight>256</TileHeight>
<MatrixWidth>16346</MatrixWidth> <MatrixHeight>15307</MatrixHeight>
</TileMatrix>
<TileMatrix>
<ows:Identifier>16</ows:Identifier>
<ScaleDenominator>15693.110566440335</ScaleDenominator>
<TopLeftCorner>-1.1896347203290574E8 1.1364522665738976E8</TopLeftCorner> <TileWidth>256</TileWidth> <TileHeight>256</TileHeight>
<MatrixWidth>32691</MatrixWidth> <MatrixHeight>30613</MatrixHeight>
</TileMatrix>
<TileMatrix>
<ows:Identifier>17</ows:Identifier>
<ScaleDenominator>7846.555283220167</ScaleDenominator>
<TopLeftCorner>-1.1896347203290574E8 1.1364522665738976E8</TopLeftCorner> <TileWidth>256</TileWidth> <TileHeight>256</TileHeight>
<MatrixWidth>65381</MatrixWidth> <MatrixHeight>61226</MatrixHeight>
</TileMatrix>
<TileMatrix>
<ows:Identifier>18</ows:Identifier>
<ScaleDenominator>3923.2776416100837</ScaleDenominator>
<TopLeftCorner>-1.1896347203290574E8 1.1364522665738976E8</TopLeftCorner> <TileWidth>256</TileWidth> <TileHeight>256</TileHeight>
<MatrixWidth>130761</MatrixWidth> <MatrixHeight>122452</MatrixHeight>
</TileMatrix>
<TileMatrix>
<ows:Identifier>19</ows:Identifier>
<ScaleDenominator>1961.6388208050419</ScaleDenominator>
<TopLeftCorner>-1.1896347203290574E8 1.1364522665738976E8</TopLeftCorner> <TileWidth>256</TileWidth> <TileHeight>256</TileHeight>
<MatrixWidth>261522</MatrixWidth> <MatrixHeight>244903</MatrixHeight>
</TileMatrix>
<TileMatrix>
<ows:Identifier>20</ows:Identifier>
<ScaleDenominator>980.8194104025209</ScaleDenominator>
<TopLeftCorner>-1.1896347203290574E8 1.1364522665738976E8</TopLeftCorner> <TileWidth>256</TileWidth> <TileHeight>256</TileHeight>
<MatrixWidth>523044</MatrixWidth> <MatrixHeight>489806</MatrixHeight>
</TileMatrix>
<TileMatrix>
<ows:Identifier>21</ows:Identifier>
<ScaleDenominator>490.40970520126046</ScaleDenominator>
<TopLeftCorner>-1.1896347203290574E8 1.1364522665738976E8</TopLeftCorner> <TileWidth>256</TileWidth> <TileHeight>256</TileHeight>
<MatrixWidth>1046087</MatrixWidth> <MatrixHeight>979612</MatrixHeight>
</TileMatrix>
<TileMatrix>
<ows:Identifier>22</ows:Identifier>
<ScaleDenominator>245.20485260063023</ScaleDenominator>
<TopLeftCorner>-1.1896347203290574E8 1.1364522665738976E8</TopLeftCorner> <TileWidth>256</TileWidth> <TileHeight>256</TileHeight>
<MatrixWidth>2092173</MatrixWidth> <MatrixHeight>1959223</MatrixHeight>
</TileMatrix>
<TileMatrix>
<ows:Identifier>23</ows:Identifier>
<ScaleDenominator>122.60242630031512</ScaleDenominator>
<TopLeftCorner>-1.1896347203290574E8 1.1364522665738976E8</TopLeftCorner> <TileWidth>256</TileWidth> <TileHeight>256</TileHeight>
<MatrixWidth>4184345</MatrixWidth> <MatrixHeight>3918445</MatrixHeight>
</TileMatrix>
</TileMatrixSet>
</Contents>
<ServiceMetadataURL xlink:href="https://maps.ci.perrysburg.oh.us/arcgis/rest/services/Hosted/Perrysburg_Image_9_10_25_tif/MapServer/WMTS/1.0.0/WMTSCapabilities.xml" /> </Capabilities>
