{
 "version": 1.0,
 "tileBundlesPath": "./tile",
 "storageInfo": {
  "packetSize": 128,
  "storageFormat": "esriMapCacheStorageModeCompactV2"
 },
 "tileImageInfo": {
  "format": "MIXED",
  "compressionQuality": 75,
  "bandCount": 1,
  "lercError": 0
 },
 "tileInfo": {
  "spatialReference": {
   "wkid": 3753,
   "latestWkid": 3753
  },
  "origin": {
   "x": -1.1896347203290574E8,
   "y": 1.1364522665738976E8
  },
  "rows": 256,
  "cols": 256,
  "dpi": 96,
  "lods": [
   {
    "level": 0,
    "resolution": 944781.0315070761,
    "scale": 1.088389925076002E9
   },
   {
    "level": 1,
    "resolution": 472390.51575353806,
    "scale": 5.44194962538001E8
   },
   {
    "level": 2,
    "resolution": 236195.25787676903,
    "scale": 2.720974812690005E8
   },
   {
    "level": 3,
    "resolution": 118097.62893838451,
    "scale": 1.3604874063450024E8
   },
   {
    "level": 4,
    "resolution": 59048.81446919226,
    "scale": 6.802437031725012E7
   },
   {
    "level": 5,
    "resolution": 29524.40723459613,
    "scale": 3.401218515862506E7
   },
   {
    "level": 6,
    "resolution": 14762.203617298064,
    "scale": 1.700609257931253E7
   },
   {
    "level": 7,
    "resolution": 7381.101808649032,
    "scale": 8503046.289656265
   },
   {
    "level": 8,
    "resolution": 3690.550904324516,
    "scale": 4251523.144828132
   },
   {
    "level": 9,
    "resolution": 1845.275452162258,
    "scale": 2125761.572414066
   },
   {
    "level": 10,
    "resolution": 922.637726081129,
    "scale": 1062880.786207033
   },
   {
    "level": 11,
    "resolution": 461.3188630405645,
    "scale": 531440.3931035165
   },
   {
    "level": 12,
    "resolution": 230.65943152028225,
    "scale": 265720.1965517583
   },
   {
    "level": 13,
    "resolution": 115.32971576014113,
    "scale": 132860.09827587914
   },
   {
    "level": 14,
    "resolution": 57.664857880070564,
    "scale": 66430.04913793957
   },
   {
    "level": 15,
    "resolution": 28.832428940035282,
    "scale": 33215.024568969784
   },
   {
    "level": 16,
    "resolution": 14.416214470017641,
    "scale": 16607.512284484892
   },
   {
    "level": 17,
    "resolution": 7.2081072350088204,
    "scale": 8303.756142242446
   },
   {
    "level": 18,
    "resolution": 3.6040536175044102,
    "scale": 4151.878071121223
   },
   {
    "level": 19,
    "resolution": 1.8020268087522051,
    "scale": 2075.9390355606115
   },
   {
    "level": 20,
    "resolution": 0.9010134043761026,
    "scale": 1037.9695177803058
   },
   {
    "level": 21,
    "resolution": 0.4505067021880513,
    "scale": 518.9847588901529
   },
   {
    "level": 22,
    "resolution": 0.22525335109402564,
    "scale": 259.49237944507644
   },
   {
    "level": 23,
    "resolution": 0.11262667554701282,
    "scale": 129.74618972253822
   }
  ],
  "format": "MIXED",
  "compressionQuality": 75,
  "bandCount": 1,
  "lercError": 0,
  "storageFormat": "esriMapCacheStorageModeCompactV2",
  "packetSize": 128
 },
 "name": "Map2",
 "serviceDescription": "",
 "spatialReference": {
  "wkid": 3753,
  "latestWkid": 3753,
  "xyTolerance": 0.003280833333333333,
  "zTolerance": 0.001,
  "mTolerance": 0.001,
  "falseX": -118963900,
  "falseY": -96373800,
  "xyUnits": 3048.0060960121928,
  "falseZ": -100000,
  "zUnits": 10000,
  "falseM": -100000,
  "mUnits": 10000
 },
 "units": "esriFeet",
 "minLOD": 13,
 "maxLOD": 23,
 "resampling": true,
 "layers": [
  {
   "id": 0,
   "name": "Perrysburg_Image_9_10_25.tif",
   "parentLayerId": -1,
   "defaultVisibility": true,
   "subLayerIds": null,
   "minScale": 0,
   "maxScale": 0,
   "type": "Raster Layer",
   "supportsDynamicLegends": true,
   "legend": [
    {
     "label": "Red: Band_1",
     "imageData": "iVBORw0KGgoAAAANSUhEUgAAABQAAAAUCAYAAACNiR0NAAAACXBIWXMAAA7EAAAOxAGVKw4bAAAAOklEQVQ4jWNhoDJgoZmB/8GIfMAIRrR0IbUAC9VMgoJRAykHLFQwAwWMGkg5YBnBBjJCyzOqGUgtAABgfwJTnasaYgAAAABJRU5ErkJggg==",
     "contentType": "image/png",
     "groupId": "0",
     "height": 20,
     "width": 20,
     "layerId": 0,
     "layerName": "Perrysburg_Image_9_10_25.tif"
    },
    {
     "label": "Green: Band_2",
     "imageData": "iVBORw0KGgoAAAANSUhEUgAAABQAAAAUCAYAAACNiR0NAAAACXBIWXMAAA7EAAAOxAGVKw4bAAAAPElEQVQ4je3UoQ0AMBBCUS5h/5WvpkmDhjr+AE8gIMLxH7hYSxqMgqFY0I4+oRX0Y8CQCvq9De+f5cBQB19+AlPZl25RAAAAAElFTkSuQmCC",
     "contentType": "image/png",
     "groupId": "0",
     "height": 20,
     "width": 20,
     "layerId": 0,
     "layerName": "Perrysburg_Image_9_10_25.tif"
    },
    {
     "label": "Blue: Band_3",
     "imageData": "iVBORw0KGgoAAAANSUhEUgAAABQAAAAUCAYAAACNiR0NAAAACXBIWXMAAA7EAAAOxAGVKw4bAAAAPElEQVQ4jWNhoDJgoaGB//9TZhQjI5qB1AEsowZSDFgoNwIVjBpIOWChghkoYNRAygFSGELKMyoaSB0AAF59AlO8NYpcAAAAAElFTkSuQmCC",
     "contentType": "image/png",
     "groupId": "0",
     "height": 20,
     "width": 20,
     "layerId": 0,
     "layerName": "Perrysburg_Image_9_10_25.tif"
    }
   ],
   "layerId": 0,
   "layerName": "Perrysburg_Image_9_10_25.tif",
   "serviceItemId": "56ad90276da84b9bbe765a0308e897fe"
  }
 ],
 "initialExtent": {
  "xmin": 1636643.310394655,
  "ymin": 666947.2891414717,
  "xmax": 1681336.8880204938,
  "ymax": 703755.9914678443,
  "spatialReference": {
   "wkid": 3753,
   "latestWkid": 3753
  }
 },
 "fullExtent": {
  "xmin": 1636643.310394655,
  "ymin": 666947.2891414717,
  "xmax": 1681336.8880204938,
  "ymax": 703755.9914678443,
  "spatialReference": {
   "wkid": 3753,
   "latestWkid": 3753
  }
 },
 "minScale": 0,
 "maxScale": 0,
 "exportTilesAllowed": false,
 "maxExportTilesCount": 0,
 "currentVersion": 11.4,
 "mapName": "Map2",
 "singleFusedMapCache": true,
 "type": "MapServer",
 "supportedExtensions": "",
 "capabilities": "TilesOnly,Tilemap",
 "serviceItemId": "56ad90276da84b9bbe765a0308e897fe"
}
