{
 "currentVersion": 11.4,
 "cimVersion": "3.4.0",
 "serviceDescription": "",
 "mapName": "Map16",
 "description": "",
 "copyrightText": "",
 "supportsDynamicLayers": true,
 "layers": [
  {
   "id": 0,
   "name": "imagery.postgres.Perrysburg_Imagery_2023",
   "parentLayerId": -1,
   "defaultVisibility": true,
   "subLayerIds": [
    1,
    2,
    3
   ],
   "minScale": 0,
   "maxScale": 0,
   "type": "Mosaic Layer",
   "supportsDynamicLegends": false
  },
  {
   "id": 1,
   "name": "Boundary",
   "parentLayerId": 0,
   "defaultVisibility": false,
   "subLayerIds": null,
   "minScale": 0,
   "maxScale": 0,
   "type": "Feature Layer",
   "geometryType": "esriGeometryPolygon",
   "supportsDynamicLegends": true
  },
  {
   "id": 2,
   "name": "Footprint",
   "parentLayerId": 0,
   "defaultVisibility": false,
   "subLayerIds": null,
   "minScale": 0,
   "maxScale": 0,
   "type": "Feature Layer",
   "geometryType": "esriGeometryPolygon",
   "supportsDynamicLegends": true
  },
  {
   "id": 3,
   "name": "Image",
   "parentLayerId": 0,
   "defaultVisibility": true,
   "subLayerIds": null,
   "minScale": 0,
   "maxScale": 0,
   "type": "Raster Layer",
   "supportsDynamicLegends": true
  }
 ],
 "tables": [],
 "spatialReference": {
  "wkid": 3753,
  "latestWkid": 3753,
  "xyTolerance": 0.003280833333333333,
  "zTolerance": 0.001,
  "mTolerance": 0.001,
  "falseX": -118963900,
  "falseY": -96373800,
  "xyUnits": 3048.0060960121928,
  "falseZ": -100000,
  "zUnits": 10000,
  "falseM": -100000,
  "mUnits": 10000
 },
 "singleFusedMapCache": true,
 "tileInfo": {
  "rows": 256,
  "cols": 256,
  "dpi": 96,
  "format": "Mixed",
  "compressionQuality": 75,
  "origin": {
   "x": -1.1896347203290574E8,
   "y": 1.1364522665738976E8
  },
  "spatialReference": {
   "wkid": 3753,
   "latestWkid": 3753,
   "xyTolerance": 0.003280833333333333,
   "zTolerance": 0.001,
   "mTolerance": 0.001,
   "falseX": -118963900,
   "falseY": -96373800,
   "xyUnits": 3048.0060960121928,
   "falseZ": -100000,
   "zUnits": 10000,
   "falseM": -100000,
   "mUnits": 10000
  },
  "lods": [
   {
    "level": 0,
    "resolution": 944781.0315070761,
    "scale": 1.088389925076002E9
   },
   {
    "level": 1,
    "resolution": 472390.51575353806,
    "scale": 5.44194962538001E8
   },
   {
    "level": 2,
    "resolution": 236195.25787676903,
    "scale": 2.720974812690005E8
   },
   {
    "level": 3,
    "resolution": 118097.62893838451,
    "scale": 1.3604874063450024E8
   },
   {
    "level": 4,
    "resolution": 59048.81446919226,
    "scale": 6.802437031725012E7
   },
   {
    "level": 5,
    "resolution": 29524.40723459613,
    "scale": 3.401218515862506E7
   },
   {
    "level": 6,
    "resolution": 14762.203617298064,
    "scale": 1.700609257931253E7
   },
   {
    "level": 7,
    "resolution": 7381.101808649032,
    "scale": 8503046.289656265
   },
   {
    "level": 8,
    "resolution": 3690.550904324516,
    "scale": 4251523.144828132
   },
   {
    "level": 9,
    "resolution": 1845.275452162258,
    "scale": 2125761.572414066
   },
   {
    "level": 10,
    "resolution": 922.637726081129,
    "scale": 1062880.786207033
   },
   {
    "level": 11,
    "resolution": 461.3188630405645,
    "scale": 531440.3931035165
   },
   {
    "level": 12,
    "resolution": 230.65943152028225,
    "scale": 265720.1965517583
   },
   {
    "level": 13,
    "resolution": 115.32971576014113,
    "scale": 132860.09827587914
   },
   {
    "level": 14,
    "resolution": 57.664857880070564,
    "scale": 66430.04913793957
   },
   {
    "level": 15,
    "resolution": 28.832428940035282,
    "scale": 33215.024568969784
   },
   {
    "level": 16,
    "resolution": 14.416214470017641,
    "scale": 16607.512284484892
   },
   {
    "level": 17,
    "resolution": 7.2081072350088204,
    "scale": 8303.756142242446
   },
   {
    "level": 18,
    "resolution": 3.6040536175044102,
    "scale": 4151.878071121223
   },
   {
    "level": 19,
    "resolution": 1.8020268087522051,
    "scale": 2075.9390355606115
   },
   {
    "level": 20,
    "resolution": 0.9010134043761026,
    "scale": 1037.9695177803058
   },
   {
    "level": 21,
    "resolution": 0.4505067021880513,
    "scale": 518.9847588901529
   },
   {
    "level": 22,
    "resolution": 0.22525335109402564,
    "scale": 259.49237944507644
   },
   {
    "level": 23,
    "resolution": 0.11262667554701282,
    "scale": 129.74618972253822
   }
  ]
 },
 "storageInfo": {
  "storageFormat": "esriMapCacheStorageModeCompactV2",
  "packetSize": 128
 },
 "initialExtent": {
  "xmin": 1675236.3424034321,
  "ymin": 686823.5856382047,
  "xmax": 1683484.5142766137,
  "ymax": 695492.9407559744,
  "spatialReference": {
   "wkid": 3753,
   "latestWkid": 3753,
   "xyTolerance": 0.003280833333333333,
   "zTolerance": 0.001,
   "mTolerance": 0.001,
   "falseX": -118963900,
   "falseY": -96373800,
   "xyUnits": 3048.0060960121928,
   "falseZ": -100000,
   "zUnits": 10000,
   "falseM": -100000,
   "mUnits": 10000
  }
 },
 "fullExtent": {
  "xmin": 1636643.3102419674,
  "ymin": 666947.2891802341,
  "xmax": 1681336.8881774694,
  "ymax": 703755.9914813042,
  "spatialReference": {
   "wkid": 3753,
   "latestWkid": 3753,
   "xyTolerance": 0.003280833333333333,
   "zTolerance": 0.001,
   "mTolerance": 0.001,
   "falseX": -118963900,
   "falseY": -96373800,
   "xyUnits": 3048.0060960121928,
   "falseZ": -100000,
   "zUnits": 10000,
   "falseM": -100000,
   "mUnits": 10000
  }
 },
 "datesInUnknownTimezone": false,
 "minScale": 132860.09827587914,
 "maxScale": 129.74618972253822,
 "minLOD": 13,
 "maxLOD": 23,
 "units": "esriFeet",
 "supportedImageFormatTypes": "PNG32,PNG24,PNG,JPG,DIB,TIFF,EMF,PS,PDF,GIF,SVG,SVGZ,BMP",
 "documentInfo": {
  "Title": "Map16",
  "Author": "",
  "Comments": "",
  "Subject": "",
  "Category": "",
  "Version": "3.4.0",
  "AntialiasingMode": "Fast",
  "TextAntialiasingMode": "Force",
  "Keywords": ""
 },
 "supportsQueryDomains": true,
 "capabilities": "Query,Map,Data",
 "supportedQueryFormats": "JSON, geoJSON, PBF",
 "exportTilesAllowed": false,
 "referenceScale": 0.0,
 "datumTransformations": [
  {
   "geoTransforms": [
    {
     "wkid": 1580,
     "latestWkid": 1580,
     "transformForward": false,
     "name": "NAD_1983_HARN_To_WGS_1984"
    }
   ]
  },
  {
   "geoTransforms": [
    {
     "wkid": 1580,
     "latestWkid": 1580,
     "transformForward": true,
     "name": "NAD_1983_HARN_To_WGS_1984"
    }
   ]
  },
  {
   "geoTransforms": [
    {
     "wkid": 1580,
     "latestWkid": 1580,
     "transformForward": false,
     "name": "NAD_1983_HARN_To_WGS_1984"
    }
   ]
  },
  {
   "geoTransforms": [
    {
     "wkid": 1580,
     "latestWkid": 1580,
     "transformForward": true,
     "name": "NAD_1983_HARN_To_WGS_1984"
    }
   ]
  }
 ],
 "supportsDatumTransformation": true,
 "archivingInfo": {
  "supportsHistoricMoment": false
 },
 "supportsClipping": true,
 "supportsSpatialFilter": true,
 "supportsTimeRelation": true,
 "supportsQueryDataElements": true,
 "mapUnits": {
  "uwkid": 9003
 },
 "maxSelectionCount": 2000,
 "maxRecordCount": 2000,
 "maxImageHeight": 4096,
 "maxImageWidth": 4096,
 "supportedExtensions": "WCSServer, WMSServer",
 "serviceItemId": "6d531e12874d4cea8a45a0db63ea0afd"
}
